BEGIN:VCALENDAR
VERSION:2.0
PRODID:-//Flagships - ECPv6.2.9//NONSGML v1.0//EN
CALSCALE:GREGORIAN
METHOD:PUBLISH
X-ORIGINAL-URL:https://flagships.eu
X-WR-CALDESC:Events for Flagships
REFRESH-INTERVAL;VALUE=DURATION:PT1H
X-Robots-Tag:noindex
X-PUBLISHED-TTL:PT1H
BEGIN:VTIMEZONE
TZID:UTC
BEGIN:STANDARD
TZOFFSETFROM:+0000
TZOFFSETTO:+0000
TZNAME:UTC
DTSTART:20220101T000000
END:STANDARD
END:VTIMEZONE
BEGIN:VEVENT
DTSTART;TZID=UTC:20220906T080000
DTEND;TZID=UTC:20220909T170000
DTSTAMP:20260421T221030
CREATED:20220207T095450Z
LAST-MODIFIED:20220207T095451Z
UID:1263-1662451200-1662742800@flagships.eu
SUMMARY:SMM Hamburg 2022
DESCRIPTION:
URL:https://flagships.eu/event/smm-hamburg-2022/
ATTACH;FMTTYPE=image/jpeg:https://flagships.eu/wp-content/uploads/2022/02/sm22_cmyk_300dpi_4nz_en-scaled.jpeg
END:VEVENT
END:VCALENDAR