BEGIN:VCALENDAR
VERSION:2.0
PRODID:-//Flagships - ECPv6.2.9//NONSGML v1.0//EN
CALSCALE:GREGORIAN
METHOD:PUBLISH
X-ORIGINAL-URL:https://flagships.eu
X-WR-CALDESC:Events for Flagships
REFRESH-INTERVAL;VALUE=DURATION:PT1H
X-Robots-Tag:noindex
X-PUBLISHED-TTL:PT1H
BEGIN:VTIMEZONE
TZID:UTC
BEGIN:STANDARD
TZOFFSETFROM:+0000
TZOFFSETTO:+0000
TZNAME:UTC
DTSTART:20220101T000000
END:STANDARD
END:VTIMEZONE
BEGIN:VEVENT
DTSTART;TZID=UTC:20220404T153000
DTEND;TZID=UTC:20220404T160000
DTSTAMP:20260422T083915
CREATED:20220207T095149Z
LAST-MODIFIED:20220325T125005Z
UID:1260-1649086200-1649088000@flagships.eu
SUMMARY:Nor-Shipping 2022: Hydrogen vessels ready for zero-emission cargo transport
DESCRIPTION:The world´s first hydrogen cargo vessel is ready to ply the river Seine in 2022 – transporting goods emission-free in the middle of Paris. \n\n\n\nThe revolutionary FLAGSHIPS project will take zero-emission waterborne transport to an entirely new level by deploying two commercially operated hydrogen fuel cell vessels. The second vessel will prove green compressed hydrogen as a zero-emission fuel also on more power demanding routes – starting operating on the river Rhine in 2023. \n\n\n\nMonday 4 April the FLAGSHIPS partners will present the hydrogen vessels at the Maritime CleanTech stage (T02 -27) at 15.30. 
URL:https://flagships.eu/event/nor-shipping-2022/
ATTACH;FMTTYPE=image/jpeg:https://flagships.eu/wp-content/uploads/2022/02/NS-Flagships.jpg
END:VEVENT
BEGIN:VEVENT
DTSTART;TZID=UTC:20220426T080000
DTEND;TZID=UTC:20220428T170000
DTSTAMP:20260422T083915
CREATED:20220208T141621Z
LAST-MODIFIED:20220208T141621Z
UID:1277-1650960000-1651165200@flagships.eu
SUMMARY:Danish Maritime Fair
DESCRIPTION:
URL:https://flagships.eu/event/danish-maritime-fair/
ATTACH;FMTTYPE=image/png:https://flagships.eu/wp-content/uploads/2022/02/logo2022-300x51-1.png
END:VEVENT
BEGIN:VEVENT
DTSTART;TZID=UTC:20220622T090000
DTEND;TZID=UTC:20220622T170000
DTSTAMP:20260422T083915
CREATED:20220621T184006Z
LAST-MODIFIED:20220621T184006Z
UID:1321-1655888400-1655917200@flagships.eu
SUMMARY:Electric Hybrid Marine Conference
DESCRIPTION:During the conference in Amsterdam\, FLAGSHIPS lessons are part of Persee’s presentation in the session on Assessing alternative fuels for hybrid vessels\, 22 June. \n\n\n\nColin Bettini\, Technical lead – fuel cell at Persee\, will present Successes and challenges of fuel cell and hydrogen propulsion systems. \n\n\n\nFuel cell hybrid systems are steadily emerging as a solution for the decarbonization of commercial transport. Hydrogen and other hydrogen carriers achieve high emission savings from widely used fuels and drive high expectations for the shipping of the future. \n\n\n\nThe presentation outlines the experience\, hurdles and success of four ongoing FCHJU-funded maritime projects: Maranda\, Flagships\, ShipFC and HyShip. In a cross-analysis\, we will explore the readiness level of the hydrogen and fuel cell technologies available on the European market. \n\n\n\nThe presentation also addresses current and upcoming challenges to truly achieve zero-emission shipping.
URL:https://flagships.eu/event/electric-hybrid-marine-conference/
END:VEVENT
BEGIN:VEVENT
DTSTART;TZID=UTC:20220906T080000
DTEND;TZID=UTC:20220909T170000
DTSTAMP:20260422T083915
CREATED:20220207T095450Z
LAST-MODIFIED:20220207T095451Z
UID:1263-1662451200-1662742800@flagships.eu
SUMMARY:SMM Hamburg 2022
DESCRIPTION:
URL:https://flagships.eu/event/smm-hamburg-2022/
ATTACH;FMTTYPE=image/jpeg:https://flagships.eu/wp-content/uploads/2022/02/sm22_cmyk_300dpi_4nz_en-scaled.jpeg
END:VEVENT
BEGIN:VEVENT
DTSTART;TZID=UTC:20220907T130000
DTEND;TZID=UTC:20220907T133000
DTSTAMP:20260422T083915
CREATED:20220823T071645Z
LAST-MODIFIED:20220823T071728Z
UID:1323-1662555600-1662557400@flagships.eu
SUMMARY:Flagships at SMM: Emission free cargo transport
DESCRIPTION:Introducing the worlds first hydrogen cargo vessel – meet the Flagships project at stand B7.102! \n\n\n\nThe partners will present their solutions for not one\, but two commercially operated hydrogen fuel cell vessels. First out is the Zulu vessel\, ready to transport goods emission free in the middle of Paris. Second is the inland container vessel FPS Waal\, aiming to sail on green hydrogen on the Rhine river in 2023.
URL:https://flagships.eu/event/flagships-at-smm-emission-free-carego-transport/
LOCATION:SMM Hamburg\, Messeplatz 1\, Hamburg\, Germany
ATTACH;FMTTYPE=image/jpeg:https://flagships.eu/wp-content/uploads/2022/08/Flagships-kopi-750x422-1.jpg
END:VEVENT
BEGIN:VEVENT
DTSTART;TZID=UTC:20221114T080000
DTEND;TZID=UTC:20221117T170000
DTSTAMP:20260422T083915
CREATED:20221109T070611Z
LAST-MODIFIED:20221109T070612Z
UID:1346-1668412800-1668704400@flagships.eu
SUMMARY:Flagships at TRA2022
DESCRIPTION:Come meet partners of the Flagships project at Waterborne´s stand (PAV 2\, STAND 2.24)! \n\n\n\nTRA\, the Transport Research Arena\, is the largest European research and technology conference on transport and mobility. \n\n\n\nTRA is the foremost European transport event that covers all transport modes and all aspects of mobility. In 2022\, TRA takes place in Lisbon\, Portugal. Themed “Moving together – reimagining mobility worldwide”\, TRA2022 brings together experts from around the world to discuss the newest innovations and future of mobility and transport\, building also on the Portuguese historical legacy and links to overseas transport professionals. Through the development of innovative solutions\, TRA Lisbon 2022 aims for a more efficient\, safer\, carbon-free\, inclusive\, and sustainable transport in all its modes.
URL:https://flagships.eu/event/flagships-at-tra2022/
ATTACH;FMTTYPE=image/jpeg:https://flagships.eu/wp-content/uploads/2022/11/Cover-kopi-2.jpg
END:VEVENT
BEGIN:VEVENT
DTSTART;TZID=UTC:20240208T100000
DTEND;TZID=UTC:20240208T160000
DTSTAMP:20260422T083915
CREATED:20240130T132044Z
LAST-MODIFIED:20250114T075217Z
UID:1413-1707386400-1707408000@flagships.eu
SUMMARY:FLAGSHIPS Ship Launch
DESCRIPTION:We´re preparing to put the first two demonstrator vessels into operation. The FPS Waal is a retrofitted inland cargo vessel ready for zero-emission operations powered by hydrogen.  \n\n\n\nAgenda: \n\n\n\n10:00 Registration \n\n\n\n10:30-13:00 Official ship launch \n\n\n\n\nMaking an Impact by Making None Richard Klatten\, CEO | Milinko Godjevac\, Senior Integration Advisor | Abhinand Chandrasekar\, Funding & Innovation Manager | Future Proof Shipping\n\n\n\nHow the Clean H2 Partnership is Advancing Zero-Emission Freight Transport on Inland Waterways with Hydrogen Mirela Atanasiu\, Executive Director\, Clean Hydrogen Partnership\n\n\n\nRetrofitting for a Zero-Emission Future Leendert Hoogendoorn\, Owner\, Holland Shipyard Group\n\n\n\nRealizing Global Ambitions for Green Shipping Ada Jakobsen\, CEO\, Maritime CleanTech\n\n\n\nPromoting Rapid & Large-Scale Uptake of Zero Emissions Ship Technology Madadh MacLaine\, Founder & Secretary General\, ZESTAs\n\n\n\nSupporting Zero-Emission Shipping Abhinand Chandrasekar\, Funding & Innovation Manager\, Future Proof Shipping\n\n\n\nZero-Emission Waterborne Transport Turning into Practice Jaap Gebraad\, Secretary General Waterborne Technology Platform\, Waterborne\n\n\n\n\nGUIDED TOUR OF THE FPS WAAL \n\n\n\nLUNCH \n\n\n\n14:00-16:00 Flagships Workshop \n\n\n\n\nPanel talk: Securing Safety for Waterborne Transport Benjamin Boyer\, CCNR | Bas Joormann\, Lloyd’s Register\n\n\n\nRaising the Readiness of Zero-Emission Waterborne Transport Jyrki Mikkola\, Flagships Project Coordinator and Senior Scientist at VTT\n\n\n\nPioneering Zero-Emission Shipping Dirk de Jong\, Project Manager\, Future Proof Shipping\n\n\n\nThe Fuel Cells of the Future Kristina Fløche Juelsgaard\, Director of Market Development\, Ballard Power Systems\n\n\n\nMaximizing the Potential of Zero-Emission Vessels Through Data Utilization Pål Gunnar Eide\, R&D Manager\, SEAM\n\n\n\nWe‘re Doing it Twice! – Introducing the Second FLAGSHIPS Demonstrator; Zulu 06 Mathieu Longueville\, Naval Engineer\, Sogestran\n\n\n\nThe RH2IWER Project: Next Steps for Hydrogen-Powered Inland Vessels Khalid Tachi\, Managing Director\, Expertise- en InnovatieCentrum Binnenvaart (EICB)/RH2IWER Project\n\n\n\nThe SH2IPDRIVE project: Accelerating Hydrogen Abhinand Chandrasekar\, Funding & Innovation Manager\, Future Proof Shipping\n\n\n\n\nModerator: Marius Knutsen\, Flagships Project / Maritime CleanTech
URL:https://flagships.eu/event/flagships-ship-launch/
ATTACH;FMTTYPE=image/jpeg:https://flagships.eu/wp-content/uploads/2024/01/Rotterdam-backdrop-kopi2.jpg
END:VEVENT
BEGIN:VEVENT
DTSTART;TZID=UTC:20241118T080000
DTEND;TZID=UTC:20241121T170000
DTSTAMP:20260422T083915
CREATED:20240902T133135Z
LAST-MODIFIED:20241114T153257Z
UID:1433-1731916800-1732208400@flagships.eu
SUMMARY:European Hydrogen Week
DESCRIPTION:Join us and the global hydrogen industry’s key players in Brussels for one of the year’s most important gatherings. \n\n\n\nFlagships will be represented by partners Maritime CleanTech alongside other pioneering maritime hydrogen projects. Meet us at the Norway Pavilion (Hall 11 – Stand C90). \n\n\n\nDon’t miss the Flagships Hour @ European Hydrogen Week on November 20 at 14:00 pm!
URL:https://flagships.eu/event/flagships-at-european-hydrogen-week/
LOCATION:Brussels Expo\, Pl. de Belgique 1\, Brussels\, Belgium
ATTACH;FMTTYPE=image/jpeg:https://flagships.eu/wp-content/uploads/2024/09/Vignette-agenda-800x400-Hydrogen.jpg
END:VEVENT
BEGIN:VEVENT
DTSTART;TZID=UTC:20241120T140000
DTEND;TZID=UTC:20241120T150000
DTSTAMP:20260422T083915
CREATED:20241114T152732Z
LAST-MODIFIED:20241114T153231Z
UID:1440-1732111200-1732114800@flagships.eu
SUMMARY:Flagships Hour @ European Hydrogen Week
DESCRIPTION:The FLAGSHIPS project will take zero-emission waterborne transport to an entirely new level by deploying two commercially operated hydrogen fuel cell vessels. \n\n\n\nLaunched in February 2024\, Future Proof Shipping’s H2Barge2 (1\,2 MW) is the first demo vessel of the Flagships project. The 109\,8-meter-long container cargo vessel operates the 240 kilometer long route between Rotterdam (NL) and Duisburg (DE) on the Rhine. \n\n\n\nThe second demo vessel\, Zulu 06 (400 kW)\, will operate the river Seine in Paris for Sogestran starting in December 2024. Both vessels will use compressed clean hydrogen as fuel\, together with PEM fuel cell technology. \n\n\n\nEager to hear more? Join us at project partner Maritime CleanTech’s stand on Wednesday 20th November\, where we’ll dedicate an entire hour to FLAGSHIPS! \n\n\n\nMeet Partners: \n\n\n\n\nJyrki Mikkola – Project Coordinator\, FLAGSHIPS/VTT\n\n\n\nKristina Fløche Juelsgaard – Director of Business Development\, Ballard Europe\n\n\n\nHåvard Tvedte – Head of Market Development and External Relations\, Maritime CleanTech
URL:https://flagships.eu/event/flagships-hour-european-hydrogen-week/
LOCATION:Brussels Expo\, Pl. de Belgique 1\, Brussels\, Belgium
ATTACH;FMTTYPE=image/jpeg:https://flagships.eu/wp-content/uploads/2024/11/Flagships@Hydrogen-Week-1200x675-1.jpg
END:VEVENT
BEGIN:VEVENT
DTSTART;TZID=UTC:20241203T140000
DTEND;TZID=UTC:20241203T160000
DTSTAMP:20260422T083915
CREATED:20241120T124421Z
LAST-MODIFIED:20241120T130105Z
UID:1473-1733234400-1733241600@flagships.eu
SUMMARY:Christening of the ZULU 06
DESCRIPTION:The first French hydrogen-powered self-propeller barge. \n\n\n\n\n\n\n\nZULU 06\, the second demonstrator vessel in the FLAGSHIPS project\, is ready to set sail on the Seine. \n\n\n\nThe hydrogen cargo transport vessel is owned by French inland shipowner Compagnie Fluvial de Transport\, a subsidiary of the Sogestran Group. It will move goods on pallets and in containers from Gennevilliers to Bonneuil Sur Marne. \n\n\n\nThe vessel will operate on compressed hydrogen produced from electrolysis\, enabling zero-emission operations. ABB Marine & Ports has supplied the power generation system for ZULU 06 with two 200 kW PEM fuel cells from Ballard. LMG Marin is responsible for detailed design drawings. \n\n\n\nThe christening event is organised by Sogestran Group in partnership with Navigable Waterways of France\, France Hydrogène\, and the Flagships project. \n\n\n\nAttendance at this event is by invitation only.
URL:https://flagships.eu/event/christening-of-the-zulu-06-in-paris/
ATTACH;FMTTYPE=image/png:https://flagships.eu/wp-content/uploads/2022/01/zulu.png
END:VEVENT
BEGIN:VEVENT
DTSTART;TZID=UTC:20241213T090000
DTEND;TZID=UTC:20241213T180000
DTSTAMP:20260422T083915
CREATED:20241205T152547Z
LAST-MODIFIED:20241205T152635Z
UID:1542-1734080400-1734112800@flagships.eu
SUMMARY:Presentation at e-SHyIPS final event
DESCRIPTION:Markus Rautanen of VTT will give a presentation at the final event of the e-SHyIPS project at Politecnico Milan\, Italy.  \n\n\n\nThe presentation will give a status update of the first major projects demonstrating hydrogen-based maritime transport: Flagships\, RH2IWER\, and Ship-aH2oy.  \n\n\n\nThe event will represent an opportunity to further promote and enhance discussions and collaborative efforts between e-SHyIPS partners and all interested parties\, assess the impact of e-SHyIPS and explore together the next steps towards a hydrogen-powered future in shipping. \n\n\n\nSee more information and discover the agenda: e-SHyIPS final event | e-SHyIPS
URL:https://flagships.eu/event/presentation-at-e-shyips-final-event/
END:VEVENT
BEGIN:VEVENT
DTSTART;TZID=UTC:20250602T080000
DTEND;TZID=UTC:20250606T170000
DTSTAMP:20260422T083915
CREATED:20250404T150130Z
LAST-MODIFIED:20250514T104327Z
UID:1705-1748851200-1749229200@flagships.eu
SUMMARY:Flagships @ Nor-Shipping 2025
DESCRIPTION:Flagships is setting sail for Nor-Shipping. As the shipping industry gathers in Oslo\, we will showcase how our partners have realised two hydrogen-powered zero-emission vessels in the heart of Europe! \n\n\n\nFlagships will be featured all week at Maritime CleanTech’s community stand. Join us in Hall E • E04-60 – right next to the Blue Talks stage. Many of our partners will also attend with their own stands: \n\n\n\n\nABB – Hall D • D03-41\n\n\n\nSEAM – Hall D • D03-32\n\n\n\nLMG Marin – Hall D • D05-32\n\n\n\n\nStay tuned for more on our Nor-Shipping program!
URL:https://flagships.eu/event/flagships-nor-shipping-2025/
LOCATION:Nor-Shipping\, Lillestrøm\, Norway
ATTACH;FMTTYPE=image/jpeg:https://flagships.eu/wp-content/uploads/2022/04/fLAGSHIPS1-scaled.jpg
END:VEVENT
BEGIN:VEVENT
DTSTART;TZID=UTC:20250701T080000
DTEND;TZID=UTC:20250704T170000
DTSTAMP:20260422T083915
CREATED:20250514T103815Z
LAST-MODIFIED:20250514T103817Z
UID:1723-1751356800-1751648400@flagships.eu
SUMMARY:EFCF 2025 – Low Temperature Fuel Cells\, Electrolysers & H₂ Processing
DESCRIPTION:Project coordinator Jyrki Mikkola from VTT will present a paper on the FLAGSHIPS project at the EFCF 2025 conference in Lucerne\, Switzerland. Stay tuned for more information.
URL:https://flagships.eu/event/efcf-2025-low-temperature-fuel-cells-electrolysers-h%e2%82%82-processing/
ATTACH;FMTTYPE=image/png:https://flagships.eu/wp-content/uploads/2025/05/EFCF-2025.png
END:VEVENT
END:VCALENDAR